BEGIN:VCALENDAR
VERSION:2.0
PRODID:-//FDP//NONSGML Website//DE
BEGIN:VEVENT
UID:c32af06565ed3f66626a9b990173235efdp
DTSTAMP:20260612T143000Z
DTSTART;TZID=Europe/Berlin:20260612T143000
DTEND;TZID=Europe/Berlin:20260612T170000
SUMMARY:fdp-senioren-kaffeenachmittag
DESCRIPTION:
LOCATION:Bürgerhaus\, 1. Stock\, Steinbach (Taunus)
END:VEVENT
END:VCALENDAR