BEGIN:VCALENDAR
VERSION:2.0
PRODID:-//FDP//NONSGML Website//DE
BEGIN:VEVENT
UID:1e05eec7b67b7267679bce1e1f7fa303fdp
DTSTAMP:20260429T190000Z
DTSTART;TZID=Europe/Berlin:20260429T190000
DTEND;TZID=Europe/Berlin:20260429T220000
SUMMARY:1-oeffentliche-sitzung-der-stadtverordnetenversammlung
DESCRIPTION:Bekanntmachung Nr. 015 1. öffentliche Sitzung der Stadtverordnetenversammlung, in der XX. Wahlzeit, am   Mittwoch, den 29.04.2026 um 19:00 Uhr, im Bürgerhaus, Saal Steinbach-Hallenberg, Untergasse 36 https://www.stadt-steinbach.de/rathaus/veroeffentlichungen/bekanntmachungen/2026/stadtverordnetenversammlung-am-29-04-2026
LOCATION:Bürgerhaus\, Untergasse 36 Steinbach (Taunus)
END:VEVENT
END:VCALENDAR